BEGIN:VCALENDAR
VERSION:2.0
PRODID:-//We Dey Manage Academy - ECPv6.15.20//NONSGML v1.0//EN
CALSCALE:GREGORIAN
METHOD:PUBLISH
X-WR-CALNAME:We Dey Manage Academy
X-ORIGINAL-URL:https://urithimedia.com
X-WR-CALDESC:Events for We Dey Manage Academy
REFRESH-INTERVAL;VALUE=DURATION:PT1H
X-Robots-Tag:noindex
X-PUBLISHED-TTL:PT1H
BEGIN:VTIMEZONE
TZID:Asia/Krasnoyarsk
BEGIN:STANDARD
TZOFFSETFROM:+0700
TZOFFSETTO:+0700
TZNAME:+07
DTSTART:20190101T000000
END:STANDARD
END:VTIMEZONE
BEGIN:VEVENT
DTSTART;TZID=Asia/Krasnoyarsk:20201210T080000
DTEND;TZID=Asia/Krasnoyarsk:20220131T170000
DTSTAMP:20260420T102641
CREATED:20210228T135451Z
LAST-MODIFIED:20210228T150855Z
UID:4209-1607587200-1643648400@urithimedia.com
SUMMARY:World Innovators Meet 2020 #WIM2020
DESCRIPTION:The #techecosystems across Africa have experienced rapid growth in recent years\, with more than 600 active tech hubs\, and thousands of incubators and accelerators spread all over the continent. \n“Opportunities for young entrepreneurs and innovators in the context of the Africa Continental Free Trade Agreement (AfCFTA).” Keynote Speaker\, Emmanuel Agbeko Gamor\, Unpacking Africa 4.0 \nAdditionally\, it’s important now more than ever to have a discussion on cross-continental\, and cross-regional collaborative efforts in the continuous development of Africa’s tech and startup ecosystem\, especially with the dynamic role #Diaspora community play from different parts of the world. \n \nFinally\, The Dot Connector is excited to be part of EqualOcean’s annual flagship event World Innovators Meet | 世界创新者年会 and leading this dialogue with top innovators and game-changers in the Africa Chapter from Dec 9th-12th\, 2020. \nAgain\, join the conference here ▶️ https://lnkd.in/ddtddjC \nSpeakers lineup:\nCordel Robbin-Coker\nHannah Subayi Kamuanga\nAdebola (Debo) Omololu\nGeorge Kwadwo Appiah\nAmel Saidane\nEmmanuel Gamor
URL:https://urithimedia.com/event/world-innovators-meet-2020-wim2020/
LOCATION:Greater Accra
ATTACH;FMTTYPE=image/png:https://urithimedia.com/wp-content/uploads/2020/12/Emmanuel-banner.png
END:VEVENT
BEGIN:VEVENT
DTSTART;TZID=Asia/Krasnoyarsk:20201027T080000
DTEND;TZID=Asia/Krasnoyarsk:20201027T170000
DTSTAMP:20260420T102641
CREATED:20200824T084915Z
LAST-MODIFIED:20200824T085210Z
UID:4189-1603785600-1603818000@urithimedia.com
SUMMARY:The Data Gateways
DESCRIPTION:Companies like Flutterwave and PayFast have been experiencing extraordinary growth during the COVID-19 crisis. This has led to an extraordinary amount of data that flows through their platforms. Payment gateways have evolved to the extent that they ‘just work’ – but what else can they tell us? As it happens\, the spending data of consumers reveals patterns that are remarkable. The founders of two of Africa’s proudest fintech proponents are coming to Heavy Chef to talk about – the Future. In a Livestream interview exclusively for Heavy Chef\, the amazing host of Unpacking Africa podcast\, Emmanuel Gamor is back to MC another exciting session. \nHeavy Chef – Speakers: Livestream: 6 pm\, Tuesday\, October 27 2020. \nDetails: \n\n\nLivestream: 6 pm\, Tuesday\, October 27\, 2020.\n\n\nHeavy Chef is hosting three African tech mavens.\n\n\nFlutterwave is one of Africa’s most celebrated payment companies internationally.\n\n\nPayFast is hot off a series of international and regional successes.\n\n\nEmmanuel Gamor is the show host of Unpacking Africa podcast.\n\n\nOlugbenga ‘GB’ Agboola is a Senior Entrepreneur with 15 years of experience in building scalable financial technology firms. He is the Founder & CEO of Flutterwave; a post Series B payments technology company headquartered in San Francisco with operations and offices across Africa and Europe. Olugbenga is passionate about creating payment solutions that connect Africa to the global digital economy\, he champions this through his work which has enabled Flutterwave process over $5.4B across all product platforms.\nEmmanuel Agbeko Gamor has over a decade of experience in youth engagement\, digital innovation\, entrepreneurship\, and leadership education. He is a faculty member with the University of Stellenbosch – Executive Education on digital reputation management runs the podcast Unpacking Africa that interviews and explores multi-stakeholders in multiple industries across the continent. Gamor is the co-Chair of the World Economic Forum Global Shapers Advisory Council on Knowledge and Impact. As an ex-Googler and former YouTube country manager\, Gamor continues to explore global digital innovation across the African region. In Accra\, he is the erstwhile Director for Digital and Design Innovation at Impact Hub Accra and works on the Ministry of Tourism Arts and Culture Beyond The Return global campaign with the Ghana Tourism Authority. He is a philanthropist\, runs a social enterprise Urithi Labs\, and volunteers with Rotary Club of Accra-Ring Road Central and the Rotary Club of Johannesburg respectively. \nJonathan Smit is an entrepreneur at heart. Jonathan started PayFast early in his career in 2007 after gaining valuable business experience at global engineering and consulting firms. With a degree in computer engineering\, Jonathan is passionate about all things technical\, most especially the internet and distributed systems. After personally developing the core PayFast platform\, Jonathan has steered PayFast through the last decade\, growing the company into a leader in online payment processing in South Africa with one of the most recognized payment brands in the country. \nTickets\nThe Data Gateways – What Does The Future Hold?\nBook your ticket below for LIVESTREAM: 27th October: The Data Gateways – What Does The Future Hold? \nSign up with your email address to receive exclusive weekly invitations to the most awesome tech\, leadership\, and creativity events in town. \nNOTE: 10% of proceeds will go towards the Heavy Chef Foundation (NPO). Small business owners and entrepreneurs can apply for discounts of 60% during COVID-19 lockdown. Students can get free tickets. To apply\, please email tickets@heavychef.com – let us know your circumstance and we’ll send you the promo code\, no questions\, no judgment.
URL:https://urithimedia.com/event/heavychef-the-data-gateways/
LOCATION:Greater Accra
CATEGORIES:Fintech,Startup,Technology
ATTACH;FMTTYPE=image/jpeg:https://urithimedia.com/wp-content/uploads/2020/08/Heavy-Chef-The-Data-Gateways-Web-Banner2.jpg
END:VEVENT
END:VCALENDAR