BEGIN:VCALENDAR
VERSION:2.0
PRODID:-//We Dey Manage Academy - ECPv6.15.20//NONSGML v1.0//EN
CALSCALE:GREGORIAN
METHOD:PUBLISH
X-WR-CALNAME:We Dey Manage Academy
X-ORIGINAL-URL:https://urithimedia.com
X-WR-CALDESC:Events for We Dey Manage Academy
REFRESH-INTERVAL;VALUE=DURATION:PT1H
X-Robots-Tag:noindex
X-PUBLISHED-TTL:PT1H
BEGIN:VTIMEZONE
TZID:Asia/Krasnoyarsk
BEGIN:STANDARD
TZOFFSETFROM:+0700
TZOFFSETTO:+0700
TZNAME:+07
DTSTART:20200101T000000
END:STANDARD
END:VTIMEZONE
BEGIN:VEVENT
DTSTART;TZID=Asia/Krasnoyarsk:20210101T080000
DTEND;TZID=Asia/Krasnoyarsk:20280122T170000
DTSTAMP:20260421T054248
CREATED:20180110T091408Z
LAST-MODIFIED:20210228T135517Z
UID:3628-1609488000-1832173200@urithimedia.com
SUMMARY:YouTube Huddles
DESCRIPTION:YouTube Creators Huddles on Thursdays 2pm @ iSpace are engaging sessions where individuals\, businesses and brand representatives can ask questions\, troubleshoot and collaborate on using YouTube’s powerful video platform to share. Our founder\, Emmanuel Gamor\, YouTube specialist led the program.
URL:https://urithimedia.com/event/youtubehuddles/
LOCATION:La Palm Hotel\, Ghana
CATEGORIES:Expo,Technology
ATTACH;FMTTYPE=image/png:https://urithimedia.com/wp-content/uploads/2018/01/YouTube-Huddle-GH-12.png
END:VEVENT
END:VCALENDAR